Package: CausalR Version: 1.42.0 Command: /home/biocbuild/R/R/bin/R CMD INSTALL CausalR StartedAt: 2025-11-24 21:07:12 -0000 (Mon, 24 Nov 2025) EndedAt: 2025-11-24 21:07:43 -0000 (Mon, 24 Nov 2025) EllapsedTime: 31.2 seconds RetCode: 0 Status: OK