Package: CausalR Version: 1.40.0 Command: /home/biocbuild/bbs-3.21-bioc/R/bin/R CMD build --keep-empty-dirs --no-resave-data CausalR StartedAt: 2025-10-15 16:35:14 -0400 (Wed, 15 Oct 2025) EndedAt: 2025-10-15 16:35:31 -0400 (Wed, 15 Oct 2025) EllapsedTime: 17.0 seconds RetCode: 0 Status: OK PackageFile: CausalR_1.40.0.tar.gz PackageFileSize: 573.4 KiB