Package: CausalR Version: 1.42.0 Command: /Library/Frameworks/R.framework/Resources/bin/R CMD INSTALL CausalR StartedAt: 2025-11-03 15:12:18 -0500 (Mon, 03 Nov 2025) EndedAt: 2025-11-03 15:13:10 -0500 (Mon, 03 Nov 2025) EllapsedTime: 52.4 seconds RetCode: 0 Status: OK