Package: CausalR Version: 1.42.0 Command: /Library/Frameworks/R.framework/Resources/bin/R CMD build --keep-empty-dirs --no-resave-data CausalR StartedAt: 2025-11-03 16:21:45 -0500 (Mon, 03 Nov 2025) EndedAt: 2025-11-03 16:22:17 -0500 (Mon, 03 Nov 2025) EllapsedTime: 32.0 seconds RetCode: 0 Status: OK PackageFile: CausalR_1.42.0.tar.gz PackageFileSize: 570.8 KiB