Package: CausalR Version: 1.40.0 Command: /home/biocbuild/R/R/bin/R CMD build --keep-empty-dirs --no-resave-data CausalR StartedAt: 2025-09-29 23:21:41 -0000 (Mon, 29 Sep 2025) EndedAt: 2025-09-29 23:21:59 -0000 (Mon, 29 Sep 2025) EllapsedTime: 18.0 seconds RetCode: 0 Status: OK PackageFile: CausalR_1.40.0.tar.gz PackageFileSize: 561.2 KiB