Package: CausalR Version: 1.40.0 Command: /Library/Frameworks/R.framework/Resources/bin/R CMD INSTALL CausalR StartedAt: 2025-10-13 15:16:45 -0400 (Mon, 13 Oct 2025) EndedAt: 2025-10-13 15:16:51 -0400 (Mon, 13 Oct 2025) EllapsedTime: 6.1 seconds RetCode: 0 Status: OK