Package: CausalR Version: 1.40.0 Command: /Library/Frameworks/R.framework/Resources/bin/R CMD build --keep-empty-dirs --no-resave-data CausalR StartedAt: 2025-10-13 20:35:09 -0400 (Mon, 13 Oct 2025) EndedAt: 2025-10-13 20:35:41 -0400 (Mon, 13 Oct 2025) EllapsedTime: 32.2 seconds RetCode: 0 Status: OK PackageFile: CausalR_1.40.0.tar.gz PackageFileSize: 573.6 KiB