Package: CausalR Version: 1.40.0 Command: rm -rf CausalR.buildbin-libdir && mkdir CausalR.buildbin-libdir && /Users/biocbuild/BBS/utils/build-universal.sh CausalR_1.40.0.tar.gz /Library/Frameworks/R.framework/Resources/bin/R CausalR.buildbin-libdir StartedAt: 2025-10-15 17:43:50 -0400 (Wed, 15 Oct 2025) EndedAt: 2025-10-15 17:43:57 -0400 (Wed, 15 Oct 2025) EllapsedTime: 6.7 seconds RetCode: 0 Status: OK PackageFile: CausalR_1.40.0.tgz PackageFileSize: 640.9 KiB