Package: CatsCradle Version: 1.4.1 Command: /home/biocbuild/bbs-3.22-bioc/R/bin/R CMD build --keep-empty-dirs --no-resave-data --md5 CatsCradle StartedAt: 2025-11-11 16:43:59 -0500 (Tue, 11 Nov 2025) EndedAt: 2025-11-11 16:50:47 -0500 (Tue, 11 Nov 2025) EllapsedTime: 408.3 seconds RetCode: 0 Status: OK PackageFile: CatsCradle_1.4.1.tar.gz PackageFileSize: 6.842 MiB