Package: CatsCradle Version: 1.4.0 Command: /Library/Frameworks/R.framework/Resources/bin/R CMD build --keep-empty-dirs --no-resave-data CatsCradle StartedAt: 2025-11-03 15:51:02 -0500 (Mon, 03 Nov 2025) EndedAt: 2025-11-03 15:53:24 -0500 (Mon, 03 Nov 2025) EllapsedTime: 141.5 seconds RetCode: 1 Status: ERROR PackageFile: None PackageFileSize: NA