Package: CatsCradle Version: 1.3.3 Command: rm -rf CatsCradle.buildbin-libdir && mkdir CatsCradle.buildbin-libdir && /Users/biocbuild/BBS/utils/build-universal.sh CatsCradle_1.3.3.tar.gz /Library/Frameworks/R.framework/Resources/bin/R CatsCradle.buildbin-libdir StartedAt: 2025-10-28 22:53:21 -0400 (Tue, 28 Oct 2025) EndedAt: 2025-10-28 22:53:39 -0400 (Tue, 28 Oct 2025) EllapsedTime: 18.4 seconds RetCode: 0 Status: OK PackageFile: CatsCradle_1.3.3.tgz PackageFileSize: 9.265 MiB