Package: Category Version: 2.76.0 Command: /home/biocbuild/bbs-3.22-bioc/R/bin/R CMD INSTALL Category StartedAt: 2025-11-11 15:34:16 -0500 (Tue, 11 Nov 2025) EndedAt: 2025-11-11 15:34:40 -0500 (Tue, 11 Nov 2025) EllapsedTime: 23.2 seconds RetCode: 0 Status: OK