Package: Category Version: 2.76.0 Command: /home/biocbuild/bbs-3.22-bioc/R/bin/R CMD build --keep-empty-dirs --no-resave-data --md5 Category StartedAt: 2025-11-11 16:43:48 -0500 (Tue, 11 Nov 2025) EndedAt: 2025-11-11 16:45:08 -0500 (Tue, 11 Nov 2025) EllapsedTime: 80.1 seconds RetCode: 0 Status: OK PackageFile: Category_2.76.0.tar.gz PackageFileSize: 877.3 KiB