Package: CardinalIO Version: 1.8.0 Command: /home/biocbuild/R/R/bin/R CMD INSTALL CardinalIO StartedAt: 2025-11-10 21:18:29 -0000 (Mon, 10 Nov 2025) EndedAt: 2025-11-10 21:19:05 -0000 (Mon, 10 Nov 2025) EllapsedTime: 36.2 seconds RetCode: 0 Status: OK