Package: CardinalIO Version: 1.8.0 Command: /home/biocbuild/R/R/bin/R CMD build --keep-empty-dirs --no-resave-data CardinalIO StartedAt: 2025-11-14 00:18:31 -0000 (Fri, 14 Nov 2025) EndedAt: 2025-11-14 00:19:07 -0000 (Fri, 14 Nov 2025) EllapsedTime: 36.0 seconds RetCode: 0 Status: OK PackageFile: CardinalIO_1.8.0.tar.gz PackageFileSize: 1007 KiB