Package: CardinalIO Version: 1.8.0 Command: /home/biocbuild/bbs-3.22-bioc/R/bin/R CMD check --install=check:CardinalIO.install-out.txt --library=/home/biocbuild/bbs-3.22-bioc/R/site-library --timings CardinalIO_1.8.0.tar.gz StartedAt: 2025-11-11 21:53:42 -0500 (Tue, 11 Nov 2025) EndedAt: 2025-11-11 21:55:09 -0500 (Tue, 11 Nov 2025) EllapsedTime: 87.1 seconds RetCode: 0 Status: OK CheckDir: CardinalIO.Rcheck Warnings: 0