Package: CardinalIO Version: 1.8.0 Command: /home/biocbuild/bbs-3.22-bioc/R/bin/R CMD build --keep-empty-dirs --no-resave-data --md5 CardinalIO StartedAt: 2025-11-13 16:39:52 -0500 (Thu, 13 Nov 2025) EndedAt: 2025-11-13 16:40:19 -0500 (Thu, 13 Nov 2025) EllapsedTime: 26.0 seconds RetCode: 0 Status: OK PackageFile: CardinalIO_1.8.0.tar.gz PackageFileSize: 1017 KiB