Package: CardinalIO Version: 1.6.0 Command: /Library/Frameworks/R.framework/Resources/bin/R CMD build --keep-empty-dirs --no-resave-data CardinalIO StartedAt: 2025-10-09 17:38:07 -0400 (Thu, 09 Oct 2025) EndedAt: 2025-10-09 17:39:01 -0400 (Thu, 09 Oct 2025) EllapsedTime: 53.9 seconds RetCode: 0 Status: OK PackageFile: CardinalIO_1.6.0.tar.gz PackageFileSize: 968.2 KiB