Package: CardinalIO Version: 1.6.0 Command: rm -rf CardinalIO.buildbin-libdir && mkdir CardinalIO.buildbin-libdir && /Users/biocbuild/BBS/utils/build-universal.sh CardinalIO_1.6.0.tar.gz /Library/Frameworks/R.framework/Resources/bin/R CardinalIO.buildbin-libdir StartedAt: 2025-10-10 12:58:52 -0400 (Fri, 10 Oct 2025) EndedAt: 2025-10-10 12:59:30 -0400 (Fri, 10 Oct 2025) EllapsedTime: 38.8 seconds RetCode: 0 Status: OK PackageFile: CardinalIO_1.6.0.tgz PackageFileSize: 1.25 MiB