Package: CardinalIO Version: 1.6.0 Command: rm -rf CardinalIO.buildbin-libdir && mkdir CardinalIO.buildbin-libdir && /Users/biocbuild/BBS/utils/build-universal.sh CardinalIO_1.6.0.tar.gz /Library/Frameworks/R.framework/Resources/bin/R CardinalIO.buildbin-libdir StartedAt: 2025-09-27 16:43:23 -0400 (Sat, 27 Sep 2025) EndedAt: 2025-09-27 16:43:43 -0400 (Sat, 27 Sep 2025) EllapsedTime: 20.5 seconds RetCode: 0 Status: OK PackageFile: CardinalIO_1.6.0.tgz PackageFileSize: 1.242 MiB