Package: CardinalIO Version: 1.6.0 Maintainer: Kylie Ariel Bemis MaintainerEmail: k.bemis at northeastern.edu git_url: https://git.bioconductor.org/packages/CardinalIO git_branch: RELEASE_3_21 git_last_commit: 01525c5 git_last_commit_date: 2025-04-15 13:19:11 -0400 (Tue, 15 Apr 2025)