Package: Cardinal Version: 3.12.0 Command: /home/biocbuild/R/R/bin/R CMD INSTALL Cardinal StartedAt: 2025-11-17 21:18:58 -0000 (Mon, 17 Nov 2025) EndedAt: 2025-11-17 21:19:37 -0000 (Mon, 17 Nov 2025) EllapsedTime: 38.5 seconds RetCode: 0 Status: OK