Package: Cardinal Version: 3.12.0 Command: /home/biocbuild/R/R/bin/R CMD build --keep-empty-dirs --no-resave-data Cardinal StartedAt: 2025-11-18 00:14:00 -0000 (Tue, 18 Nov 2025) EndedAt: 2025-11-18 00:26:07 -0000 (Tue, 18 Nov 2025) EllapsedTime: 727.2 seconds RetCode: 0 Status: OK PackageFile: Cardinal_3.12.0.tar.gz PackageFileSize: 2.595 MiB