Package: Cardinal Version: 3.12.0 Command: /home/biocbuild/bbs-3.22-bioc/R/bin/R CMD INSTALL Cardinal StartedAt: 2025-11-11 15:17:08 -0500 (Tue, 11 Nov 2025) EndedAt: 2025-11-11 15:17:35 -0500 (Tue, 11 Nov 2025) EllapsedTime: 27.1 seconds RetCode: 0 Status: OK