Package: Cardinal Version: 3.12.0 Command: /home/biocbuild/bbs-3.22-bioc/R/bin/R CMD check --install=check:Cardinal.install-out.txt --library=/home/biocbuild/bbs-3.22-bioc/R/site-library --timings Cardinal_3.12.0.tar.gz StartedAt: 2025-11-11 21:53:28 -0500 (Tue, 11 Nov 2025) EndedAt: 2025-11-11 22:07:52 -0500 (Tue, 11 Nov 2025) EllapsedTime: 863.9 seconds RetCode: 0 Status: OK CheckDir: Cardinal.Rcheck Warnings: 0