Package: Cardinal Version: 3.10.0 Command: /home/biocbuild/bbs-3.21-bioc/R/bin/R CMD INSTALL Cardinal StartedAt: 2025-10-15 15:12:13 -0400 (Wed, 15 Oct 2025) EndedAt: 2025-10-15 15:12:37 -0400 (Wed, 15 Oct 2025) EllapsedTime: 24.3 seconds RetCode: 0 Status: OK