Package: Cardinal Version: 3.10.0 Command: /home/biocbuild/bbs-3.21-bioc/R/bin/R CMD build --keep-empty-dirs --no-resave-data Cardinal StartedAt: 2025-10-15 16:34:12 -0400 (Wed, 15 Oct 2025) EndedAt: 2025-10-15 16:41:05 -0400 (Wed, 15 Oct 2025) EllapsedTime: 413.3 seconds RetCode: 0 Status: OK PackageFile: Cardinal_3.10.0.tar.gz PackageFileSize: 5.181 MiB