Package: Cardinal Version: 3.10.0 Command: /Library/Frameworks/R.framework/Resources/bin/R CMD INSTALL Cardinal StartedAt: 2025-04-21 15:13:26 -0400 (Mon, 21 Apr 2025) EndedAt: 2025-04-21 15:13:58 -0400 (Mon, 21 Apr 2025) EllapsedTime: 31.9 seconds RetCode: 0 Status: OK