Package: Cardinal Version: 3.10.0 Command: /Library/Frameworks/R.framework/Resources/bin/R CMD INSTALL Cardinal StartedAt: 2025-10-13 15:38:06 -0400 (Mon, 13 Oct 2025) EndedAt: 2025-10-13 15:38:34 -0400 (Mon, 13 Oct 2025) EllapsedTime: 27.6 seconds RetCode: 0 Status: OK