Package: Cardinal Version: 3.10.0 Command: rm -rf Cardinal.buildbin-libdir && mkdir Cardinal.buildbin-libdir && /Users/biocbuild/BBS/utils/build-universal.sh Cardinal_3.10.0.tar.gz /Library/Frameworks/R.framework/Resources/bin/R Cardinal.buildbin-libdir StartedAt: 2025-10-15 17:42:56 -0400 (Wed, 15 Oct 2025) EndedAt: 2025-10-15 17:43:27 -0400 (Wed, 15 Oct 2025) EllapsedTime: 30.5 seconds RetCode: 0 Status: OK PackageFile: Cardinal_3.10.0.tgz PackageFileSize: 6.656 MiB