Package: CalibraCurve Version: 1.0.0 Command: rm -rf CalibraCurve.buildbin-libdir && mkdir CalibraCurve.buildbin-libdir && /Users/biocbuild/BBS/utils/build-universal.sh CalibraCurve_1.0.0.tar.gz /Library/Frameworks/R.framework/Resources/bin/R CalibraCurve.buildbin-libdir StartedAt: 2025-11-10 23:13:34 -0500 (Mon, 10 Nov 2025) EndedAt: 2025-11-10 23:13:45 -0500 (Mon, 10 Nov 2025) EllapsedTime: 11.2 seconds RetCode: 0 Status: OK PackageFile: CalibraCurve_1.0.0.tgz PackageFileSize: 2.007 MiB