Package: CaMutQC Version: 1.6.0 Command: /home/biocbuild/R/R/bin/R CMD build --keep-empty-dirs --no-resave-data CaMutQC StartedAt: 2025-11-21 00:55:24 -0000 (Fri, 21 Nov 2025) EndedAt: 2025-11-21 00:57:07 -0000 (Fri, 21 Nov 2025) EllapsedTime: 103.0 seconds RetCode: 0 Status: OK PackageFile: CaMutQC_1.6.0.tar.gz PackageFileSize: 5.379 MiB