Package: CaMutQC Version: 1.6.0 Command: /home/biocbuild/bbs-3.22-bioc/R/bin/R CMD check --install=check:CaMutQC.install-out.txt --library=/home/biocbuild/bbs-3.22-bioc/R/site-library --timings CaMutQC_1.6.0.tar.gz StartedAt: 2025-11-11 21:52:58 -0500 (Tue, 11 Nov 2025) EndedAt: 2025-11-11 21:57:04 -0500 (Tue, 11 Nov 2025) EllapsedTime: 246.2 seconds RetCode: 0 Status: OK CheckDir: CaMutQC.Rcheck Warnings: 0