Package: CaMutQC Version: 1.4.5 Command: /home/biocbuild/bbs-3.21-bioc/R/bin/R CMD INSTALL CaMutQC StartedAt: 2025-10-12 16:00:34 -0400 (Sun, 12 Oct 2025) EndedAt: 2025-10-12 16:01:03 -0400 (Sun, 12 Oct 2025) EllapsedTime: 29.5 seconds RetCode: 0 Status: OK