Package: CaMutQC Version: 1.6.0 Command: /Library/Frameworks/R.framework/Resources/bin/R CMD INSTALL CaMutQC StartedAt: 2025-11-20 17:16:07 -0500 (Thu, 20 Nov 2025) EndedAt: 2025-11-20 17:17:06 -0500 (Thu, 20 Nov 2025) EllapsedTime: 59.7 seconds RetCode: 0 Status: OK