Package: CaMutQC Version: 1.6.0 Command: /Library/Frameworks/R.framework/Resources/bin/R CMD build --keep-empty-dirs --no-resave-data CaMutQC StartedAt: 2025-11-20 18:30:41 -0500 (Thu, 20 Nov 2025) EndedAt: 2025-11-20 18:33:52 -0500 (Thu, 20 Nov 2025) EllapsedTime: 191.2 seconds RetCode: 0 Status: OK PackageFile: CaMutQC_1.6.0.tar.gz PackageFileSize: 5.311 MiB