Package: CaMutQC Version: 1.4.5 Command: rm -rf CaMutQC.buildbin-libdir && mkdir CaMutQC.buildbin-libdir && /Users/biocbuild/BBS/utils/build-universal.sh CaMutQC_1.4.5.tar.gz /Library/Frameworks/R.framework/Resources/bin/R CaMutQC.buildbin-libdir StartedAt: 2025-10-15 17:42:00 -0400 (Wed, 15 Oct 2025) EndedAt: 2025-10-15 17:42:39 -0400 (Wed, 15 Oct 2025) EllapsedTime: 39.4 seconds RetCode: 0 Status: OK PackageFile: CaMutQC_1.4.5.tgz PackageFileSize: 4.583 MiB