Package: CaDrA Version: 1.8.0 Command: /home/biocbuild/bbs-3.22-bioc/R/bin/R CMD INSTALL CaDrA StartedAt: 2025-11-11 15:22:07 -0500 (Tue, 11 Nov 2025) EndedAt: 2025-11-11 15:22:35 -0500 (Tue, 11 Nov 2025) EllapsedTime: 27.6 seconds RetCode: 0 Status: OK