Package: CaDrA Version: 1.8.0 Command: /Library/Frameworks/R.framework/Resources/bin/R CMD build --keep-empty-dirs --no-resave-data CaDrA StartedAt: 2025-11-10 15:49:23 -0500 (Mon, 10 Nov 2025) EndedAt: 2025-11-10 15:50:24 -0500 (Mon, 10 Nov 2025) EllapsedTime: 60.6 seconds RetCode: 0 Status: OK PackageFile: CaDrA_1.8.0.tar.gz PackageFileSize: 2.47 MiB