Package: CaDrA Version: 1.8.0 Command: rm -rf CaDrA.buildbin-libdir && mkdir CaDrA.buildbin-libdir && /Users/biocbuild/BBS/utils/build-universal.sh CaDrA_1.8.0.tar.gz /Library/Frameworks/R.framework/Resources/bin/R CaDrA.buildbin-libdir StartedAt: 2025-11-10 23:13:27 -0500 (Mon, 10 Nov 2025) EndedAt: 2025-11-10 23:13:41 -0500 (Mon, 10 Nov 2025) EllapsedTime: 14.3 seconds RetCode: 0 Status: OK PackageFile: CaDrA_1.8.0.tgz PackageFileSize: 2.456 MiB