Package: CTexploreR Version: 1.6.0 Command: /home/biocbuild/bbs-3.22-bioc/R/bin/R CMD INSTALL CTexploreR StartedAt: 2025-11-11 16:04:18 -0500 (Tue, 11 Nov 2025) EndedAt: 2025-11-11 16:04:57 -0500 (Tue, 11 Nov 2025) EllapsedTime: 38.6 seconds RetCode: 0 Status: OK