Package: CTexploreR Version: 1.6.0 Command: /home/biocbuild/bbs-3.22-bioc/R/bin/R CMD build --keep-empty-dirs --no-resave-data --md5 CTexploreR StartedAt: 2025-11-11 17:10:35 -0500 (Tue, 11 Nov 2025) EndedAt: 2025-11-11 17:23:02 -0500 (Tue, 11 Nov 2025) EllapsedTime: 746.6 seconds RetCode: 0 Status: OK PackageFile: CTexploreR_1.6.0.tar.gz PackageFileSize: 7.271 MiB