Package: CTexploreR Version: 1.6.0 Command: /Library/Frameworks/R.framework/Resources/bin/R CMD INSTALL CTexploreR StartedAt: 2025-11-10 15:31:29 -0500 (Mon, 10 Nov 2025) EndedAt: 2025-11-10 15:31:46 -0500 (Mon, 10 Nov 2025) EllapsedTime: 16.4 seconds RetCode: 0 Status: OK