Package: CTexploreR Version: 1.6.0 Command: /Library/Frameworks/R.framework/Resources/bin/R CMD build --keep-empty-dirs --no-resave-data CTexploreR StartedAt: 2025-11-10 16:04:43 -0500 (Mon, 10 Nov 2025) EndedAt: 2025-11-10 16:10:36 -0500 (Mon, 10 Nov 2025) EllapsedTime: 352.8 seconds RetCode: 0 Status: OK PackageFile: CTexploreR_1.6.0.tar.gz PackageFileSize: 7.55 MiB