Package: CTdata Version: 1.10.0 Command: /home/biocbuild/bbs-3.22-bioc/R/bin/R CMD INSTALL CTdata StartedAt: 2025-11-14 15:28:33 -0500 (Fri, 14 Nov 2025) EndedAt: 2025-11-14 15:28:47 -0500 (Fri, 14 Nov 2025) EllapsedTime: 14.7 seconds RetCode: 0 Status: OK