Package: CTdata Version: 1.10.0 Command: /home/biocbuild/bbs-3.22-bioc/R/bin/R CMD build --keep-empty-dirs --no-resave-data --md5 CTdata StartedAt: 2025-11-14 17:09:21 -0500 (Fri, 14 Nov 2025) EndedAt: 2025-11-14 17:15:37 -0500 (Fri, 14 Nov 2025) EllapsedTime: 376.4 seconds RetCode: 0 Status: OK PackageFile: CTdata_1.10.0.tar.gz PackageFileSize: 6.972 MiB