Package: CTSV Version: 1.12.0 Command: /home/biocbuild/bbs-3.22-bioc/R/bin/R CMD INSTALL CTSV StartedAt: 2025-10-31 15:28:32 -0400 (Fri, 31 Oct 2025) EndedAt: 2025-10-31 15:29:01 -0400 (Fri, 31 Oct 2025) EllapsedTime: 28.8 seconds RetCode: 0 Status: OK