Package: CTSV Version: 1.12.0 Command: /home/biocbuild/bbs-3.22-bioc/R/bin/R CMD build --keep-empty-dirs --no-resave-data --md5 CTSV StartedAt: 2025-11-03 17:08:48 -0500 (Mon, 03 Nov 2025) EndedAt: 2025-11-03 17:09:38 -0500 (Mon, 03 Nov 2025) EllapsedTime: 50.0 seconds RetCode: 0 Status: OK PackageFile: CTSV_1.12.0.tar.gz PackageFileSize: 303.9 KiB