Package: CTDquerier Version: 2.18.0 Command: /home/biocbuild/bbs-3.22-bioc/R/bin/R CMD INSTALL CTDquerier StartedAt: 2025-11-11 15:54:50 -0500 (Tue, 11 Nov 2025) EndedAt: 2025-11-11 15:54:58 -0500 (Tue, 11 Nov 2025) EllapsedTime: 8.0 seconds RetCode: 0 Status: OK