Package: CTDquerier Version: 2.18.0 Command: /home/biocbuild/bbs-3.22-bioc/R/bin/R CMD check --install=check:CTDquerier.install-out.txt --library=/home/biocbuild/bbs-3.22-bioc/R/site-library --timings CTDquerier_2.18.0.tar.gz StartedAt: 2025-11-13 22:39:03 -0500 (Thu, 13 Nov 2025) EndedAt: 2025-11-13 22:40:45 -0500 (Thu, 13 Nov 2025) EllapsedTime: 102.0 seconds RetCode: 0 Status: WARNINGS CheckDir: CTDquerier.Rcheck Warnings: 1